BEGIN:VCALENDAR
VERSION:2.0
PRODID:-//Cirrus Consulting Group - ECPv6.15.16//NONSGML v1.0//EN
CALSCALE:GREGORIAN
METHOD:PUBLISH
X-ORIGINAL-URL:https://www.cirrusconsultinggroup.com
X-WR-CALDESC:Events for Cirrus Consulting Group
REFRESH-INTERVAL;VALUE=DURATION:PT1H
X-Robots-Tag:noindex
X-PUBLISHED-TTL:PT1H
BEGIN:VTIMEZONE
TZID:America/Toronto
BEGIN:DAYLIGHT
TZOFFSETFROM:-0500
TZOFFSETTO:-0400
TZNAME:EDT
DTSTART:20180311T070000
END:DAYLIGHT
BEGIN:STANDARD
TZOFFSETFROM:-0400
TZOFFSETTO:-0500
TZNAME:EST
DTSTART:20181104T060000
END:STANDARD
BEGIN:DAYLIGHT
TZOFFSETFROM:-0500
TZOFFSETTO:-0400
TZNAME:EDT
DTSTART:20190310T070000
END:DAYLIGHT
BEGIN:STANDARD
TZOFFSETFROM:-0400
TZOFFSETTO:-0500
TZNAME:EST
DTSTART:20191103T060000
END:STANDARD
BEGIN:DAYLIGHT
TZOFFSETFROM:-0500
TZOFFSETTO:-0400
TZNAME:EDT
DTSTART:20200308T070000
END:DAYLIGHT
BEGIN:STANDARD
TZOFFSETFROM:-0400
TZOFFSETTO:-0500
TZNAME:EST
DTSTART:20201101T060000
END:STANDARD
END:VTIMEZONE
BEGIN:VEVENT
DTSTART;TZID=America/Toronto:20190910T183000
DTEND;TZID=America/Toronto:20190910T210000
DTSTAMP:20260424T142259
CREATED:20190802T154913Z
LAST-MODIFIED:20190802T192329Z
UID:29221-1568140200-1568149200@www.cirrusconsultinggroup.com
SUMMARY:Mississauga\, ON | How to Negotiate or Renegotiate the Terms and Rental rates in Your Lease
DESCRIPTION:You registered for a complimentary CE seminar for dentists: \nHow to Negotiate or Renegotiate the Terms and Rental Rates in Your Dental Office Lease\n6:30 pm – 9:00 pm | Earn 2 CE credits! \nCirrus Consulting Group | 1-800-459-3413 | info@cirrusconsultinggroup.com
URL:https://www.cirrusconsultinggroup.com/event/mississauga-how-to-negotiate-or-renegotiate-the-terms-and-rent-in-your-lease/
LOCATION:Lakeshore Convention Centre\, 806 Southdown Rd.\, Mississauga\, ON\, L5J 2Y4\, Canada
CATEGORIES:Dental CE Events
ATTACH;FMTTYPE=image/jpeg:https://www.cirrusconsultinggroup.com/wp-content/uploads/2018/04/AdobeStock_7194812.jpeg
END:VEVENT
BEGIN:VEVENT
DTSTART;TZID=America/Toronto:20190912T120000
DTEND;TZID=America/Toronto:20190912T130000
DTSTAMP:20260424T142259
CREATED:20190820T181127Z
LAST-MODIFIED:20190821T143110Z
UID:29334-1568289600-1568293200@www.cirrusconsultinggroup.com
SUMMARY:Webinar: Preparing for Your Veterinary Office Lease Renewal
DESCRIPTION:You registered for a complimentary CE webinar for veterinarians: \nAct Now\, Reap Later – Preparing for Your Veterinary Office Lease Renewal\n12:00 pm – 1:00 pm (ET) | Earn 1 CE credit!
URL:https://www.cirrusconsultinggroup.com/event/vet-webinar-preparing-for-your-veterinary-office-lease-renewal/
CATEGORIES:Veterinary CE Events
ATTACH;FMTTYPE=image/jpeg:https://www.cirrusconsultinggroup.com/wp-content/uploads/2016/02/bigstock-139397831.jpg
END:VEVENT
BEGIN:VEVENT
DTSTART;TZID=America/Toronto:20190917T120000
DTEND;TZID=America/Toronto:20190917T130000
DTSTAMP:20260424T142259
CREATED:20190820T162758Z
LAST-MODIFIED:20190820T162758Z
UID:29340-1568721600-1568725200@www.cirrusconsultinggroup.com
SUMMARY:Webinar: How to Negotiate or Renegotiate the Terms and Rental Rates in Your Dental Office Lease
DESCRIPTION:
URL:https://www.cirrusconsultinggroup.com/event/dental-webinar-how-to-negotiate-and-renegotiate-your-dental-office-lease-september-2019/
CATEGORIES:Dental CE Events
END:VEVENT
BEGIN:VEVENT
DTSTART;TZID=America/Toronto:20190919T183000
DTEND;TZID=America/Toronto:20190919T210000
DTSTAMP:20260424T142259
CREATED:20190628T140811Z
LAST-MODIFIED:20190703T142454Z
UID:29072-1568917800-1568926800@www.cirrusconsultinggroup.com
SUMMARY:Boston\, MA | How to Negotiate or Renegotiate the Terms and Rental rates in Your Lease
DESCRIPTION:You registered for a complimentary CE seminar for dentists: \nHow to Negotiate or Renegotiate the Terms and Rental Rates in Your Dental Office Lease\n6:30 pm – 9:00 pm | Earn 2 CE credits! \nCirrus Consulting Group | 1-800-459-3413 | info@cirrusconsultinggroup.com
URL:https://www.cirrusconsultinggroup.com/event/boston-how-to-negotiate-or-renegotiate-the-terms-and-rent-in-your-lease/
LOCATION:Henry Schein Boston\, Henry Schein\, 220 Bear Hill Road\, Boston\, MA\, 02451\, United States
CATEGORIES:Dental CE Events
ATTACH;FMTTYPE=image/jpeg:https://www.cirrusconsultinggroup.com/wp-content/uploads/2019/05/shutterstock_527776330.jpg
END:VEVENT
BEGIN:VEVENT
DTSTART;TZID=America/Toronto:20190924T183000
DTEND;TZID=America/Toronto:20190924T210000
DTSTAMP:20260424T142259
CREATED:20190807T202850Z
LAST-MODIFIED:20190808T125919Z
UID:29233-1569349800-1569358800@www.cirrusconsultinggroup.com
SUMMARY:Northbrook\, IL: How to Negotiate or Renegotiate the Terms and Rental Rates in Your Dental Office Lease
DESCRIPTION:You registered for a complimentary CE seminar for dentists: \nHow to Negotiate or Renegotiate the Terms and Rental Rates in Your Dental Office Lease\n6:30 pm – 9:00 pm | Earn 2 CE credits! \nCirrus Consulting Group | 1.800.459.3413 | info@cirrusconsultinggroup.com
URL:https://www.cirrusconsultinggroup.com/event/northbrook-il-how-to-negotiate-or-renegotiate-the-terms-and-rent-in-your-lease/
LOCATION:Sheraton Chicago Northbrook Hotel\, 1110 Willow Rd.\, Northbrook\, IL\, 60062\, United States
CATEGORIES:Dental CE Events
ATTACH;FMTTYPE=image/jpeg:https://www.cirrusconsultinggroup.com/wp-content/uploads/2018/01/shutterstock_358326923.jpg
END:VEVENT
BEGIN:VEVENT
DTSTART;TZID=America/Toronto:20190925T183000
DTEND;TZID=America/Toronto:20190925T210000
DTSTAMP:20260424T142259
CREATED:20190807T202719Z
LAST-MODIFIED:20190808T130208Z
UID:29237-1569436200-1569445200@www.cirrusconsultinggroup.com
SUMMARY:Naperville\, IL: How to Negotiate or Renegotiate the Terms and Rental Rates in Your Dental Office Lease
DESCRIPTION:You registered for a complimentary CE seminar for dentists: \nHow to Negotiate or Renegotiate the Terms and Rental Rates in Your Dental Office Lease\n6:30 pm – 9:00 pm | Earn 2 CE credits! \nCirrus Consulting Group | 1.800.459.3413 | info@cirrusconsultinggroup.com
URL:https://www.cirrusconsultinggroup.com/event/naperville-il-how-to-negotiate-or-renegotiate-the-terms-and-rent-in-your-lease/
LOCATION:Chicago Marriott Naperville\, 1801 North Naper Blvd.\, Naperville\, IL\, 60563\, United States
CATEGORIES:Dental CE Events
ATTACH;FMTTYPE=image/jpeg:https://www.cirrusconsultinggroup.com/wp-content/uploads/2018/01/shutterstock_358326923.jpg
END:VEVENT
END:VCALENDAR