BEGIN:VCALENDAR
VERSION:2.0
PRODID:-//Cirrus Consulting Group - ECPv6.15.16//NONSGML v1.0//EN
CALSCALE:GREGORIAN
METHOD:PUBLISH
X-ORIGINAL-URL:https://www.cirrusconsultinggroup.com
X-WR-CALDESC:Events for Cirrus Consulting Group
REFRESH-INTERVAL;VALUE=DURATION:PT1H
X-Robots-Tag:noindex
X-PUBLISHED-TTL:PT1H
BEGIN:VTIMEZONE
TZID:America/Toronto
BEGIN:DAYLIGHT
TZOFFSETFROM:-0500
TZOFFSETTO:-0400
TZNAME:EDT
DTSTART:20180311T070000
END:DAYLIGHT
BEGIN:STANDARD
TZOFFSETFROM:-0400
TZOFFSETTO:-0500
TZNAME:EST
DTSTART:20181104T060000
END:STANDARD
BEGIN:DAYLIGHT
TZOFFSETFROM:-0500
TZOFFSETTO:-0400
TZNAME:EDT
DTSTART:20190310T070000
END:DAYLIGHT
BEGIN:STANDARD
TZOFFSETFROM:-0400
TZOFFSETTO:-0500
TZNAME:EST
DTSTART:20191103T060000
END:STANDARD
BEGIN:DAYLIGHT
TZOFFSETFROM:-0500
TZOFFSETTO:-0400
TZNAME:EDT
DTSTART:20200308T070000
END:DAYLIGHT
BEGIN:STANDARD
TZOFFSETFROM:-0400
TZOFFSETTO:-0500
TZNAME:EST
DTSTART:20201101T060000
END:STANDARD
END:VTIMEZONE
BEGIN:VEVENT
DTSTART;TZID=America/Toronto:20191104T183000
DTEND;TZID=America/Toronto:20191104T210000
DTSTAMP:20260424T114055
CREATED:20191017T161117Z
LAST-MODIFIED:20191017T161607Z
UID:29596-1572892200-1572901200@www.cirrusconsultinggroup.com
SUMMARY:San Antonio\, Texas: How to Negotiate or Renegotiate the Terms and Rental Rates in Your Dental Office Lease
DESCRIPTION:You registered for a complimentary CE seminar for dentists: \nHow to Negotiate or Renegotiate the Terms and Rental Rates in Your Dental Office Lease\n6:30 pm – 9:00 pm | Earn 2 CE credits! \nCirrus Consulting Group | 1.800.459.3413 | info@cirrusconsultinggroup.com
URL:https://www.cirrusconsultinggroup.com/event/san-antonio-texas-how-to-negotiate-or-renegotiate-the-terms-and-rent-in-your-lease/
LOCATION:Henry Schein San Antonio\, 12007 Starcrest Drive\, San Antonio\, TX\, 78247\, United States
CATEGORIES:Dental CE Events
ATTACH;FMTTYPE=image/jpeg:https://www.cirrusconsultinggroup.com/wp-content/uploads/2019/03/shutterstock_527776330.jpg
END:VEVENT
BEGIN:VEVENT
DTSTART;TZID=America/Toronto:20191105T183000
DTEND;TZID=America/Toronto:20191105T210000
DTSTAMP:20260424T114055
CREATED:20190822T200556Z
LAST-MODIFIED:20191022T234624Z
UID:29413-1572978600-1572987600@www.cirrusconsultinggroup.com
SUMMARY:Houston\, Texas: How to Negotiate or Renegotiate the Terms and Rental Rates in Your Dental Office Lease
DESCRIPTION:You registered for a complimentary CE seminar for dentists: \nHow to Negotiate or Renegotiate the Terms and Rental Rates in Your Dental Office Lease\n6:30 pm – 9:00 pm | Earn 2 CE credits! \nCirrus Consulting Group | 1.800.459.3413 | info@cirrusconsultinggroup.com
URL:https://www.cirrusconsultinggroup.com/event/houston-texas-how-to-negotiate-or-renegotiate-the-terms-and-rent-in-your-lease/
LOCATION:Henry Schein Houston\, 8781 West Road #104\, Houston\, TX\, 77064\, United States
CATEGORIES:Dental CE Events
ATTACH;FMTTYPE=image/jpeg:https://www.cirrusconsultinggroup.com/wp-content/uploads/2019/03/shutterstock_527776330.jpg
END:VEVENT
BEGIN:VEVENT
DTSTART;TZID=America/Toronto:20191112T120000
DTEND;TZID=America/Toronto:20191112T130000
DTSTAMP:20260424T114055
CREATED:20190822T151529Z
LAST-MODIFIED:20190822T180011Z
UID:29389-1573560000-1573563600@www.cirrusconsultinggroup.com
SUMMARY:Webinar: The Essentials to Running a "SMART" and Profitable Practice!
DESCRIPTION:You registered for a complimentary CE webinar for dentists: \nThe Essentials to Running a “SMART” and Profitable Practice!\n12:00 pm – 1:00 pm (ET) | Earn 1 CE credit!
URL:https://www.cirrusconsultinggroup.com/event/dental-webinar-the-essentials-to-running-a-smart-and-profitable-practice-nov-2019/
CATEGORIES:Dental CE Events
ATTACH;FMTTYPE=image/jpeg:https://www.cirrusconsultinggroup.com/wp-content/uploads/2013/06/Dental-Equipment-with-blurred-BG.jpeg
END:VEVENT
BEGIN:VEVENT
DTSTART;TZID=America/Toronto:20191112T183000
DTEND;TZID=America/Toronto:20191112T210000
DTSTAMP:20260424T114055
CREATED:20191017T014537Z
LAST-MODIFIED:20191017T164055Z
UID:29586-1573583400-1573592400@www.cirrusconsultinggroup.com
SUMMARY:McLean\, VA: How to Negotiate or Renegotiate the Terms and Rent in Your Lease
DESCRIPTION:You registered for a complimentary CE seminar for dentists: \nHow to Negotiate or Renegotiate the Terms and Rent in Your Dental Office Lease\n6:30 pm – 9:00 pm | Earn 2 CE credits! \nCirrus Consulting Group | 1.800.459.3413 | info@cirrusconsultinggroup.com
URL:https://www.cirrusconsultinggroup.com/event/mclean-va-how-to-negotiate-or-renegotiate-the-terms-and-rent-in-your-lease-2/
LOCATION:Courtyard Tysons Corner Fairfax\, 1960-A Chain Bridge Rd.\, McLean\, VA\, 22102\, United States
CATEGORIES:Dental CE Events
ATTACH;FMTTYPE=image/jpeg:https://www.cirrusconsultinggroup.com/wp-content/uploads/2018/04/Femal-dentist_no-stethescope.jpg
END:VEVENT
BEGIN:VEVENT
DTSTART;TZID=America/Toronto:20191113T183000
DTEND;TZID=America/Toronto:20191113T210000
DTSTAMP:20260424T114055
CREATED:20191017T015229Z
LAST-MODIFIED:20191017T165253Z
UID:29588-1573669800-1573678800@www.cirrusconsultinggroup.com
SUMMARY:Columbia\, MD | How to Negotiate or Renegotiate the Terms and Rent in Your Lease
DESCRIPTION:You registered for a complimentary CE seminar for dentists: \nHow to Negotiate or Renegotiate the Terms and Rent in Your Dental Office Lease\n6:30 pm – 9:00 pm | Earn 2 CE credits \nCirrus Consulting Group | 1-800-459-3413 | info@cirrusconsultinggroup.com
URL:https://www.cirrusconsultinggroup.com/event/columbia-md-how-to-negotiate-lease-terms-seminar-2/
LOCATION:Henry Schein Center – Columbia MD\, 7100 Columbia Gateway Dr. Suite 140\, Columbia\, MD\, 21046\, United States
CATEGORIES:Dental CE Events
ATTACH;FMTTYPE=image/jpeg:https://www.cirrusconsultinggroup.com/wp-content/uploads/2018/02/bigstock-Portrait-of-a-friendly-scienti-27502040.jpg
END:VEVENT
BEGIN:VEVENT
DTSTART;TZID=America/Toronto:20191119T120000
DTEND;TZID=America/Toronto:20191119T130000
DTSTAMP:20260424T114055
CREATED:20191102T171643Z
LAST-MODIFIED:20191102T171643Z
UID:29693-1574164800-1574168400@www.cirrusconsultinggroup.com
SUMMARY:How to: Dental Office Lease Negotiations Webinar
DESCRIPTION:
URL:https://www.cirrusconsultinggroup.com/event/cirrus-dental-webinar-nov-2019/
CATEGORIES:Dental CE Events
END:VEVENT
BEGIN:VEVENT
DTSTART;TZID=America/Toronto:20191125T183000
DTEND;TZID=America/Toronto:20191125T210000
DTSTAMP:20260424T114055
CREATED:20191017T195340Z
LAST-MODIFIED:20191017T200743Z
UID:29607-1574706600-1574715600@www.cirrusconsultinggroup.com
SUMMARY:Calgary\, AB: Planning for a Risk-Free and Profitable Practice Sale
DESCRIPTION:You registered for a complimentary CE seminar for dentists: \nPlanning for a Risk-Free and Profitable Practice Sale\nNovember 25\, 2019 | 6:30 pm – 9:00 pm | Earn 2 CE credits! \nCirrus Consulting Group | 1.800.459.3413 | info@cirrusconsultinggroup.com
URL:https://www.cirrusconsultinggroup.com/event/calgary-ab-planning-for-a-risk-free-and-profitable-practice-sale-nov-2019/
LOCATION:Henry Schein Calgary\, 138-4303 26th St. NE\, Calgary\, AB\, T1Y 7K2\, Canada
CATEGORIES:Dental CE Events
ATTACH;FMTTYPE=image/jpeg:https://www.cirrusconsultinggroup.com/wp-content/uploads/2018/08/Large-dental-office.jpeg
END:VEVENT
BEGIN:VEVENT
DTSTART;TZID=America/Toronto:20191126T183000
DTEND;TZID=America/Toronto:20191126T210000
DTSTAMP:20260424T114055
CREATED:20191022T231511Z
LAST-MODIFIED:20191022T231554Z
UID:29626-1574793000-1574802000@www.cirrusconsultinggroup.com
SUMMARY:Vancouver\, BC | Negotiating or Renegotiating the Terms and Rental Rates in Your Dental Office Lease
DESCRIPTION:You registered for a complimentary CE seminar for dentists: \nHow to Negotiate or Renegotiate the Terms and Rent in Your Dental Office Lease\nVancouver\, BC | 6:30 pm – 9:00 pm | Earn 2 CE credits \nCirrus Consulting Group | 1-800-459-3413 | info@cirrusconsultinggroup.com
URL:https://www.cirrusconsultinggroup.com/event/vancouver-bc-negotiating-or-renegotiating-the-terms-and-rent-in-your-dental-office-lease-nov-2019/
LOCATION:Delta Hotels Vancouver Downtown Suites\, 550 W. Hastings St.\, Vancouver\, BC\, V6B 1L6\, Canada
CATEGORIES:Dental CE Events
ATTACH;FMTTYPE=image/jpeg:https://www.cirrusconsultinggroup.com/wp-content/uploads/2018/01/shutterstock_358326923.jpg
END:VEVENT
BEGIN:VEVENT
DTSTART;TZID=America/Toronto:20191127T183000
DTEND;TZID=America/Toronto:20191127T210000
DTSTAMP:20260424T114055
CREATED:20191023T163014Z
LAST-MODIFIED:20191121T142016Z
UID:29637-1574879400-1574888400@www.cirrusconsultinggroup.com
SUMMARY:Ajax\, ON | Negotiating or Renegotiating the Terms and Rental Rates in Your Dental Office Lease
DESCRIPTION:You registered for a complimentary CE seminar for dentists: \nHow to Negotiate or Renegotiate the Terms and Rent in Your Dental Office Lease\nAjax\, ON | 6:30 pm – 9:00 pm | Earn 2 CE credits \nCirrus Consulting Group | 1-800-459-3413 | info@cirrusconsultinggroup.com
URL:https://www.cirrusconsultinggroup.com/event/ajax-on-negotiating-or-renegotiating-the-terms-and-rent-in-your-dental-office-lease-nov-2019/
CATEGORIES:Dental CE Events
ATTACH;FMTTYPE=image/jpeg:https://www.cirrusconsultinggroup.com/wp-content/uploads/2018/01/shutterstock_358326923.jpg
END:VEVENT
BEGIN:VEVENT
DTSTART;TZID=America/Toronto:20191127T183000
DTEND;TZID=America/Toronto:20191127T210000
DTSTAMP:20260424T114055
CREATED:20191024T201533Z
LAST-MODIFIED:20191024T210054Z
UID:29653-1574879400-1574888400@www.cirrusconsultinggroup.com
SUMMARY:Victoria\, BC | Negotiating or Renegotiating the Terms and Rental Rates in Your Dental Office Lease
DESCRIPTION:You registered for a complimentary CE seminar for dentists: \nHow to Negotiate or Renegotiate the Terms and Rent in Your Dental Office Lease\nVictoria\, BC | 6:30 pm – 9:00 pm | Earn 2 CE credits \nCirrus Consulting Group | 1-800-459-3413 | info@cirrusconsultinggroup.com
URL:https://www.cirrusconsultinggroup.com/event/victoria-bc-negotiating-or-renegotiating-the-terms-and-rent-in-your-dental-office-lease-nov-2019/
LOCATION:Delta Hotels Victoria Ocean Pointe Resort\, 100 Harbour Rd.\, Victoria\, BC\, V9A 0G1\, Canada
CATEGORIES:Dental CE Events
ATTACH;FMTTYPE=image/jpeg:https://www.cirrusconsultinggroup.com/wp-content/uploads/2018/01/shutterstock_358326923.jpg
END:VEVENT
END:VCALENDAR