BEGIN:VCALENDAR
VERSION:2.0
PRODID:-//Cirrus Consulting Group - ECPv6.15.16//NONSGML v1.0//EN
CALSCALE:GREGORIAN
METHOD:PUBLISH
X-ORIGINAL-URL:https://www.cirrusconsultinggroup.com
X-WR-CALDESC:Events for Cirrus Consulting Group
REFRESH-INTERVAL;VALUE=DURATION:PT1H
X-Robots-Tag:noindex
X-PUBLISHED-TTL:PT1H
BEGIN:VTIMEZONE
TZID:America/Toronto
BEGIN:DAYLIGHT
TZOFFSETFROM:-0500
TZOFFSETTO:-0400
TZNAME:EDT
DTSTART:20180311T070000
END:DAYLIGHT
BEGIN:STANDARD
TZOFFSETFROM:-0400
TZOFFSETTO:-0500
TZNAME:EST
DTSTART:20181104T060000
END:STANDARD
BEGIN:DAYLIGHT
TZOFFSETFROM:-0500
TZOFFSETTO:-0400
TZNAME:EDT
DTSTART:20190310T070000
END:DAYLIGHT
BEGIN:STANDARD
TZOFFSETFROM:-0400
TZOFFSETTO:-0500
TZNAME:EST
DTSTART:20191103T060000
END:STANDARD
BEGIN:DAYLIGHT
TZOFFSETFROM:-0500
TZOFFSETTO:-0400
TZNAME:EDT
DTSTART:20200308T070000
END:DAYLIGHT
BEGIN:STANDARD
TZOFFSETFROM:-0400
TZOFFSETTO:-0500
TZNAME:EST
DTSTART:20201101T060000
END:STANDARD
END:VTIMEZONE
BEGIN:VEVENT
DTSTART;TZID=America/Toronto:20191204T183000
DTEND;TZID=America/Toronto:20191204T210000
DTSTAMP:20260424T101711
CREATED:20191022T233148Z
LAST-MODIFIED:20191022T234221Z
UID:29632-1575484200-1575493200@www.cirrusconsultinggroup.com
SUMMARY:Toronto\, ON | Negotiating or Renegotiating the Terms and Rental Rates in Your Dental Office Lease
DESCRIPTION:You registered for a complimentary CE seminar for dentists: \nHow to Negotiate or Renegotiate the Terms and Rent in Your Dental Office Lease\nToronto\, ON | 6:30 pm – 9:00 pm | Earn 2 CE credits \nCirrus Consulting Group | 1-800-459-3413 | info@cirrusconsultinggroup.com
URL:https://www.cirrusconsultinggroup.com/event/toronto-on-negotiating-or-renegotiating-the-terms-and-rent-in-your-dental-office-lease-dec-2019/
LOCATION:Novotel Toronto – North York\, 3 Park Home Ave.\, North York\, ON\, M2N 6L3\, CA
CATEGORIES:Dental CE Events
ATTACH;FMTTYPE=image/jpeg:https://www.cirrusconsultinggroup.com/wp-content/uploads/2018/01/shutterstock_358326923.jpg
END:VEVENT
BEGIN:VEVENT
DTSTART;TZID=America/Toronto:20191212T120000
DTEND;TZID=America/Toronto:20191212T130000
DTSTAMP:20260424T101711
CREATED:20190822T133807Z
LAST-MODIFIED:20191213T225015Z
UID:29382-1576152000-1576155600@www.cirrusconsultinggroup.com
SUMMARY:Webinar: Veterinary Real Estate Update & Negotiating the Terms and Rent in Your Veterinary Office Lease
DESCRIPTION:You registered for a complimentary CE webinar for veterinarians: \nVeterinary Real Estate Update & Negotiating the Terms and Rent in Your Veterinary Lease \nDecember 12\, 2019 | 12:00 pm – 1:00 pm (ET) | Earn 1 CE credit!
URL:https://www.cirrusconsultinggroup.com/event/vet-webinar-veterinary-real-estate-update-negotiating-the-terms-and-rent-in-your-veterinary-office-lease-dec-2019/
CATEGORIES:Veterinary CE Events
ATTACH;FMTTYPE=image/jpeg:https://www.cirrusconsultinggroup.com/wp-content/uploads/2016/02/bigstock-139397831.jpg
END:VEVENT
BEGIN:VEVENT
DTSTART;TZID=America/Toronto:20191217T120000
DTEND;TZID=America/Toronto:20191217T130000
DTSTAMP:20260424T101711
CREATED:20191112T163206Z
LAST-MODIFIED:20191122T153356Z
UID:29767-1576584000-1576587600@www.cirrusconsultinggroup.com
SUMMARY:How To: End Embezzlement and Manage Risk in Your Office Lease Webinar
DESCRIPTION:
URL:https://www.cirrusconsultinggroup.com/event/cirrus-dental-webinar-dec-2019/
CATEGORIES:Dental CE Events
ATTACH;FMTTYPE=image/jpeg:https://www.cirrusconsultinggroup.com/wp-content/uploads/2017/07/Large_dental-tools-dark.jpg
END:VEVENT
BEGIN:VEVENT
DTSTART;TZID=America/Toronto:20191223T120000
DTEND;TZID=America/Toronto:20191223T130000
DTSTAMP:20260424T101711
CREATED:20191213T222534Z
LAST-MODIFIED:20191213T222617Z
UID:29983-1577102400-1577106000@www.cirrusconsultinggroup.com
SUMMARY:Webinar: Veterinary Real Estate Update & Negotiating the Terms and Rent in Your Veterinary Office Lease
DESCRIPTION:You registered for a complimentary CE webinar for veterinarians: \nVeterinary Real Estate Update & Negotiating the Terms and Rent in Your Veterinary Lease \nDecember 12\, 2019 | 12:00 pm – 1:00 pm (ET) | Earn 1 CE credit!
URL:https://www.cirrusconsultinggroup.com/event/vet-webinar-veterinary-real-estate-update-negotiating-the-terms-and-rent-in-your-veterinary-office-lease-jan-2020/
CATEGORIES:Veterinary CE Events
ATTACH;FMTTYPE=image/jpeg:https://www.cirrusconsultinggroup.com/wp-content/uploads/2016/02/bigstock-139397831.jpg
END:VEVENT
END:VCALENDAR