BEGIN:VCALENDAR
VERSION:2.0
PRODID:-//Cirrus Consulting Group - ECPv6.15.16//NONSGML v1.0//EN
CALSCALE:GREGORIAN
METHOD:PUBLISH
X-ORIGINAL-URL:https://www.cirrusconsultinggroup.com
X-WR-CALDESC:Events for Cirrus Consulting Group
REFRESH-INTERVAL;VALUE=DURATION:PT1H
X-Robots-Tag:noindex
X-PUBLISHED-TTL:PT1H
BEGIN:VTIMEZONE
TZID:America/Toronto
BEGIN:DAYLIGHT
TZOFFSETFROM:-0500
TZOFFSETTO:-0400
TZNAME:EDT
DTSTART:20190310T070000
END:DAYLIGHT
BEGIN:STANDARD
TZOFFSETFROM:-0400
TZOFFSETTO:-0500
TZNAME:EST
DTSTART:20191103T060000
END:STANDARD
BEGIN:DAYLIGHT
TZOFFSETFROM:-0500
TZOFFSETTO:-0400
TZNAME:EDT
DTSTART:20200308T070000
END:DAYLIGHT
BEGIN:STANDARD
TZOFFSETFROM:-0400
TZOFFSETTO:-0500
TZNAME:EST
DTSTART:20201101T060000
END:STANDARD
BEGIN:DAYLIGHT
TZOFFSETFROM:-0500
TZOFFSETTO:-0400
TZNAME:EDT
DTSTART:20210314T070000
END:DAYLIGHT
BEGIN:STANDARD
TZOFFSETFROM:-0400
TZOFFSETTO:-0500
TZNAME:EST
DTSTART:20211107T060000
END:STANDARD
END:VTIMEZONE
BEGIN:VEVENT
DTSTART;TZID=America/Toronto:20200108T120000
DTEND;TZID=America/Toronto:20200108T130000
DTSTAMP:20260424T085700
CREATED:20200103T195254Z
LAST-MODIFIED:20200103T201818Z
UID:30042-1578484800-1578488400@www.cirrusconsultinggroup.com
SUMMARY:How to: Dental Office Lease Negotiations & Real Estate Update Webinar
DESCRIPTION:
URL:https://www.cirrusconsultinggroup.com/event/cirrus-dental-webinar-8-jan-2020/
CATEGORIES:Dental CE Events
ATTACH;FMTTYPE=image/jpeg:https://www.cirrusconsultinggroup.com/wp-content/uploads/2018/01/shutterstock_358326923.jpg
END:VEVENT
BEGIN:VEVENT
DTSTART;TZID=America/Toronto:20200122T180000
DTEND;TZID=America/Toronto:20200122T190000
DTSTAMP:20260424T085700
CREATED:20191211T203848Z
LAST-MODIFIED:20191231T232309Z
UID:29922-1579716000-1579719600@www.cirrusconsultinggroup.com
SUMMARY:2020 New Year Resolutions to Renegotiate your Dental Office Lease
DESCRIPTION:
URL:https://www.cirrusconsultinggroup.com/event/cirrus-dental-webinar-jan-2020/
CATEGORIES:Dental CE Events
ATTACH;FMTTYPE=image/jpeg:https://www.cirrusconsultinggroup.com/wp-content/uploads/2019/12/BofA-and-Cirrus.jpg
END:VEVENT
BEGIN:VEVENT
DTSTART;TZID=America/Toronto:20200129T183000
DTEND;TZID=America/Toronto:20200129T210000
DTSTAMP:20260424T085700
CREATED:20191202T212154Z
LAST-MODIFIED:20191211T205132Z
UID:29908-1580322600-1580331600@www.cirrusconsultinggroup.com
SUMMARY:Long Island\, NY | Negotiating or Renegotiating the Terms and Rental Rates in Your Dental Office Lease
DESCRIPTION:You registered for a complimentary CE seminar for dentists: \nHow to Negotiate or Renegotiate the Terms and Rent in Your Dental Office Lease\nLong Island\, NY | 6:30 pm – 9:00 pm | Earn 2 CE credits \nCirrus Consulting Group | 1-800-459-3413 | info@cirrusconsultinggroup.com
URL:https://www.cirrusconsultinggroup.com/event/long-island-ny-negotiating-or-renegotiating-the-terms-and-rent-in-your-dental-office-lease-jan-2020/
LOCATION:Henry Schein Center- Long Island\, 357 Crossways Park Drive\, Woodbury\,\, Long Island\, NY\, 11797\, United States
CATEGORIES:Dental CE Events
ATTACH;FMTTYPE=image/jpeg:https://www.cirrusconsultinggroup.com/wp-content/uploads/2018/03/shutterstock_427366735.jpg
END:VEVENT
BEGIN:VEVENT
DTSTART;TZID=America/Toronto:20200130T183000
DTEND;TZID=America/Toronto:20200130T210000
DTSTAMP:20260424T085700
CREATED:20191126T200936Z
LAST-MODIFIED:20191211T205150Z
UID:29830-1580409000-1580418000@www.cirrusconsultinggroup.com
SUMMARY:New York\, NY | Negotiating or Renegotiating the Terms and Rental Rates in Your Dental Office Lease
DESCRIPTION:You registered for a complimentary CE seminar for dentists: \nHow to Negotiate or Renegotiate the Terms and Rent in Your Dental Office Lease\nNew York\, NY | 6:30 pm – 9:00 pm | Earn 2 CE credits \nCirrus Consulting Group | 1-800-459-3413 | info@cirrusconsultinggroup.com
URL:https://www.cirrusconsultinggroup.com/event/new-york-ny-negotiating-or-renegotiating-the-terms-and-rent-in-your-dental-office-lease-jan-2020/
LOCATION:Bank of America Conference Center: Multi-Purpose Room\, 114  West 47th St.\, New York\, NY\, 10036 \, US
CATEGORIES:Dental CE Events
ATTACH;FMTTYPE=image/jpeg:https://www.cirrusconsultinggroup.com/wp-content/uploads/2018/01/shutterstock_358326923.jpg
END:VEVENT
END:VCALENDAR