BEGIN:VCALENDAR
VERSION:2.0
PRODID:-//Cirrus Consulting Group - ECPv6.15.16//NONSGML v1.0//EN
CALSCALE:GREGORIAN
METHOD:PUBLISH
X-WR-CALNAME:Cirrus Consulting Group
X-ORIGINAL-URL:https://www.cirrusconsultinggroup.com
X-WR-CALDESC:Events for Cirrus Consulting Group
REFRESH-INTERVAL;VALUE=DURATION:PT1H
X-Robots-Tag:noindex
X-PUBLISHED-TTL:PT1H
BEGIN:VTIMEZONE
TZID:America/Toronto
BEGIN:DAYLIGHT
TZOFFSETFROM:-0500
TZOFFSETTO:-0400
TZNAME:EDT
DTSTART:20190310T070000
END:DAYLIGHT
BEGIN:STANDARD
TZOFFSETFROM:-0400
TZOFFSETTO:-0500
TZNAME:EST
DTSTART:20191103T060000
END:STANDARD
BEGIN:DAYLIGHT
TZOFFSETFROM:-0500
TZOFFSETTO:-0400
TZNAME:EDT
DTSTART:20200308T070000
END:DAYLIGHT
BEGIN:STANDARD
TZOFFSETFROM:-0400
TZOFFSETTO:-0500
TZNAME:EST
DTSTART:20201101T060000
END:STANDARD
BEGIN:DAYLIGHT
TZOFFSETFROM:-0500
TZOFFSETTO:-0400
TZNAME:EDT
DTSTART:20210314T070000
END:DAYLIGHT
BEGIN:STANDARD
TZOFFSETFROM:-0400
TZOFFSETTO:-0500
TZNAME:EST
DTSTART:20211107T060000
END:STANDARD
END:VTIMEZONE
BEGIN:VEVENT
DTSTART;TZID=America/Toronto:20200203T183000
DTEND;TZID=America/Toronto:20200203T210000
DTSTAMP:20260424T074754
CREATED:20180717T184018Z
LAST-MODIFIED:20191211T204950Z
UID:26646-1580754600-1580763600@www.cirrusconsultinggroup.com
SUMMARY:Sunnyvale\, CA: How to Negotiate or Renegotiate the Terms and Rent in Your Lease
DESCRIPTION:You registered for a complimentary CE seminar for dentists: \nHow to Negotiate or Renegotiate the Terms and Rent in Your Dental Office Lease\n6:30 pm – 9:00 pm | Earn 2 CE credits! \nCirrus Consulting Group | 1.800.459.3413 | info@cirrusconsultinggroup.com
URL:https://www.cirrusconsultinggroup.com/event/sunnyvale-ca-how-to-negotiate-or-renegotiate-the-terms-and-rent-in-your-lease-feb-3-2020/
LOCATION:Country Inn & Suites By Radisson\, 1300 Chesapeake Terrace\, Sunnyvale\, CA\, 94089\, United States
CATEGORIES:Dental CE Events
ATTACH;FMTTYPE=image/jpeg:https://www.cirrusconsultinggroup.com/wp-content/uploads/2018/02/dental-hygienist-1.jpg
END:VEVENT
BEGIN:VEVENT
DTSTART;TZID=America/Toronto:20200204T183000
DTEND;TZID=America/Toronto:20200204T210000
DTSTAMP:20260424T074754
CREATED:20191114T220548Z
LAST-MODIFIED:20191211T204631Z
UID:29781-1580841000-1580850000@www.cirrusconsultinggroup.com
SUMMARY:Burlingame\, CA: How to Negotiate or Renegotiate the Terms and Rent in Your Lease
DESCRIPTION:You registered for a complimentary CE seminar for dentists: \nHow to Negotiate or Renegotiate the Terms and Rent in Your Dental Office Lease\n6:30 pm – 9:00 pm | Earn 2 CE credits! \nCirrus Consulting Group | 1.800.459.3413 | info@cirrusconsultinggroup.com
URL:https://www.cirrusconsultinggroup.com/event/burlingame-ca-how-to-negotiate-or-renegotiate-the-terms-and-rent-in-your-lease-feb-4-2020/
LOCATION:DoubleTree by Hilton – San Francisco Airport\, 835 Airport Boulevard\, Burlingame\, CA\, 94010\, US
CATEGORIES:Dental CE Events
ATTACH;FMTTYPE=image/jpeg:https://www.cirrusconsultinggroup.com/wp-content/uploads/2018/02/dental-hygienist-1.jpg
END:VEVENT
BEGIN:VEVENT
DTSTART;TZID=America/Toronto:20200211T183000
DTEND;TZID=America/Toronto:20200211T210000
DTSTAMP:20260424T074754
CREATED:20191212T215054Z
LAST-MODIFIED:20191212T215054Z
UID:29970-1581445800-1581454800@www.cirrusconsultinggroup.com
SUMMARY:Saskatoon\, SK | How to Negotiate or Renegotiate the Terms and Rental rates in Your Lease
DESCRIPTION:You registered for a complimentary CE seminar for dentists: \nHow to Negotiate or Renegotiate the Terms and Rental Rates in Your Dental Office Lease\n6:30 pm – 9:00 pm | Earn 2 CE credits! \nCirrus Consulting Group | 1-800-459-3413 | info@cirrusconsultinggroup.com
URL:https://www.cirrusconsultinggroup.com/event/saskatoon-how-to-negotiate-or-renegotiate-the-terms-and-rent-in-your-lease-feb-2020/
LOCATION:Sheraton Cavalier Saskatoon\, 612 Spadina Crescent E\, Saskatoon\, SK\, S7K 3G9\, CA
CATEGORIES:Dental CE Events
ATTACH;FMTTYPE=image/jpeg:https://www.cirrusconsultinggroup.com/wp-content/uploads/2019/05/shutterstock_527776330.jpg
END:VEVENT
BEGIN:VEVENT
DTSTART;TZID=America/Toronto:20200212T183000
DTEND;TZID=America/Toronto:20200212T210000
DTSTAMP:20260424T074754
CREATED:20191212T220345Z
LAST-MODIFIED:20191212T220345Z
UID:29971-1581532200-1581541200@www.cirrusconsultinggroup.com
SUMMARY:Winnipeg\, MB | How to Negotiate or Renegotiate the Terms and Rental rates in Your Lease
DESCRIPTION:You registered for a complimentary CE seminar for dentists: \nHow to Negotiate or Renegotiate the Terms and Rental Rates in Your Dental Office Lease\n6:30 pm – 9:00 pm | Earn 2 CE credits! \nCirrus Consulting Group | 1-800-459-3413 | info@cirrusconsultinggroup.com
URL:https://www.cirrusconsultinggroup.com/event/winnipeg-how-to-negotiate-or-renegotiate-the-terms-and-rent-in-your-lease-feb-2020/
LOCATION:Henry Schein Center Winnipeg\, 21 Murry Park Road Drive\, Winnipeg\, Manitoba\, R3J 3S2\, Canada
CATEGORIES:Dental CE Events
ATTACH;FMTTYPE=image/jpeg:https://www.cirrusconsultinggroup.com/wp-content/uploads/2019/05/shutterstock_527776330.jpg
END:VEVENT
BEGIN:VEVENT
DTSTART;TZID=America/Toronto:20200213T120000
DTEND;TZID=America/Toronto:20200213T130000
DTSTAMP:20260424T074754
CREATED:20191213T223254Z
LAST-MODIFIED:20200211T174211Z
UID:29985-1581595200-1581598800@www.cirrusconsultinggroup.com
SUMMARY:How To Run A Smart And Profitable Practice in 2020 Webinar
DESCRIPTION:
URL:https://www.cirrusconsultinggroup.com/event/cirrus-dental-webinar-feb-2020/
CATEGORIES:Dental CE Events
ATTACH;FMTTYPE=image/jpeg:https://www.cirrusconsultinggroup.com/wp-content/uploads/2019/03/shutterstock_527776330.jpg
END:VEVENT
BEGIN:VEVENT
DTSTART;TZID=America/Toronto:20200227T183000
DTEND;TZID=America/Toronto:20200227T210000
DTSTAMP:20260424T074754
CREATED:20191104T163507Z
LAST-MODIFIED:20200214T185257Z
UID:29727-1582828200-1582837200@www.cirrusconsultinggroup.com
SUMMARY:Nashville\, TN | Negotiating or Renegotiating the Terms and Rental Rates in Your Dental Office Lease
DESCRIPTION:You registered for a complimentary CE seminar for dentists: \nHow to Negotiate or Renegotiate the Terms and Rent in Your Dental Office Lease\nNashville\, TN | 6:30 pm – 9:00 pm | Earn 2 CE credits \nCirrus Consulting Group | 1-800-459-3413 | info@cirrusconsultinggroup.com
URL:https://www.cirrusconsultinggroup.com/event/nashville-tn-negotiating-or-renegotiating-the-terms-and-rent-in-your-dental-office-lease-feb-2020-2/
LOCATION:Henry Schein Dental – 2525 Perimeter Place Drive Suite 115\, 2525 Perimeter Place Drive Suite 115\, Nashville\, TN\, 37214\, United States
CATEGORIES:Dental CE Events
ATTACH;FMTTYPE=image/jpeg:https://www.cirrusconsultinggroup.com/wp-content/uploads/2018/01/shutterstock_358326923.jpg
END:VEVENT
END:VCALENDAR