BEGIN:VCALENDAR
VERSION:2.0
PRODID:-//Cirrus Consulting Group - ECPv6.15.16//NONSGML v1.0//EN
CALSCALE:GREGORIAN
METHOD:PUBLISH
X-WR-CALNAME:Cirrus Consulting Group
X-ORIGINAL-URL:https://www.cirrusconsultinggroup.com
X-WR-CALDESC:Events for Cirrus Consulting Group
REFRESH-INTERVAL;VALUE=DURATION:PT1H
X-Robots-Tag:noindex
X-PUBLISHED-TTL:PT1H
BEGIN:VTIMEZONE
TZID:America/Toronto
BEGIN:DAYLIGHT
TZOFFSETFROM:-0500
TZOFFSETTO:-0400
TZNAME:EDT
DTSTART:20190310T070000
END:DAYLIGHT
BEGIN:STANDARD
TZOFFSETFROM:-0400
TZOFFSETTO:-0500
TZNAME:EST
DTSTART:20191103T060000
END:STANDARD
BEGIN:DAYLIGHT
TZOFFSETFROM:-0500
TZOFFSETTO:-0400
TZNAME:EDT
DTSTART:20200308T070000
END:DAYLIGHT
BEGIN:STANDARD
TZOFFSETFROM:-0400
TZOFFSETTO:-0500
TZNAME:EST
DTSTART:20201101T060000
END:STANDARD
BEGIN:DAYLIGHT
TZOFFSETFROM:-0500
TZOFFSETTO:-0400
TZNAME:EDT
DTSTART:20210314T070000
END:DAYLIGHT
BEGIN:STANDARD
TZOFFSETFROM:-0400
TZOFFSETTO:-0500
TZNAME:EST
DTSTART:20211107T060000
END:STANDARD
END:VTIMEZONE
BEGIN:VEVENT
DTSTART;TZID=America/Toronto:20200401T150000
DTEND;TZID=America/Toronto:20200401T160000
DTSTAMP:20260424T051631
CREATED:20200323T195005Z
LAST-MODIFIED:20200401T011055Z
UID:31013-1585753200-1585756800@www.cirrusconsultinggroup.com
SUMMARY:Webinar: COVID-19 & Rent Payments: How to Survive and Thrive
DESCRIPTION:
URL:https://www.cirrusconsultinggroup.com/event/covid-19-rent-payments-april-1-2020-2/
CATEGORIES:Dental CE Events
ATTACH;FMTTYPE=image/jpeg:https://www.cirrusconsultinggroup.com/wp-content/uploads/2019/05/shutterstock_357385298.jpg
END:VEVENT
BEGIN:VEVENT
DTSTART;TZID=America/Toronto:20200401T150000
DTEND;TZID=America/Toronto:20200401T160000
DTSTAMP:20260424T051631
CREATED:20200326T194734Z
LAST-MODIFIED:20200401T020749Z
UID:31381-1585753200-1585756800@www.cirrusconsultinggroup.com
SUMMARY:Webinar: COVID-19 & Rent Payments: How to Survive and Thrive
DESCRIPTION:
URL:https://www.cirrusconsultinggroup.com/event/henry-schein-covid-19-rent-payments-april-1-2020/
CATEGORIES:Dental CE Events
ATTACH;FMTTYPE=image/jpeg:https://www.cirrusconsultinggroup.com/wp-content/uploads/2019/03/Dental-tools-in-pocket.jpeg
END:VEVENT
BEGIN:VEVENT
DTSTART;TZID=America/Toronto:20200401T183000
DTEND;TZID=America/Toronto:20200401T210000
DTSTAMP:20260424T051631
CREATED:20200206T162441Z
LAST-MODIFIED:20200304T181631Z
UID:30287-1585765800-1585774800@www.cirrusconsultinggroup.com
SUMMARY:Berkeley Heights\, NJ | Negotiating or Renegotiating the Terms and Rental Rates in Your Dental Office Lease
DESCRIPTION:You registered for a complimentary CE seminar for dentists: \nHow to Negotiate or Renegotiate the Terms and Rent in Your Dental Office Lease\nBerkeley Heights\, NJ | 6:30 pm – 9:00 pm | 2 CE credits available \nCirrus Consulting Group | 1-800-459-3413 | info@cirrusconsultinggroup.com
URL:https://www.cirrusconsultinggroup.com/event/new-jersey-nj-negotiating-or-renegotiating-the-terms-and-rent-in-your-dental-office-lease-april-2020/
LOCATION:Embassy Suites by Hilton Berkeley Heights\, 250 Connell Drive\, Berkeley Heights\, NJ\, 07922\, United States
CATEGORIES:Dental CE Events
ATTACH;FMTTYPE=image/jpeg:https://www.cirrusconsultinggroup.com/wp-content/uploads/2018/01/shutterstock_358326923.jpg
END:VEVENT
BEGIN:VEVENT
DTSTART;TZID=America/Toronto:20200402T183000
DTEND;TZID=America/Toronto:20200402T210000
DTSTAMP:20260424T051631
CREATED:20200206T155218Z
LAST-MODIFIED:20200304T181704Z
UID:30285-1585852200-1585861200@www.cirrusconsultinggroup.com
SUMMARY:New York\, NY | Negotiating or Renegotiating the Terms and Rental Rates in Your Dental Office Lease
DESCRIPTION:You registered for a complimentary CE seminar for dentists: \nHow to Negotiate or Renegotiate the Terms and Rent in Your Dental Office Lease\nNew York\, NY | 6:30 pm – 9:00 pm | 2 CE credits available \nCirrus Consulting Group | 1-800-459-3413 | info@cirrusconsultinggroup.com
URL:https://www.cirrusconsultinggroup.com/event/new-york-ny-negotiating-or-renegotiating-the-terms-and-rent-in-your-dental-office-lease-april-2020/
LOCATION:Bank of America Conference Center: Multi-Purpose Room\, 114  West 47th St.\, New York\, NY\, 10036 \, US
CATEGORIES:Dental CE Events
ATTACH;FMTTYPE=image/jpeg:https://www.cirrusconsultinggroup.com/wp-content/uploads/2018/01/shutterstock_358326923.jpg
END:VEVENT
BEGIN:VEVENT
DTSTART;TZID=America/Toronto:20200403T130000
DTEND;TZID=America/Toronto:20200403T140000
DTSTAMP:20260424T051631
CREATED:20200401T211452Z
LAST-MODIFIED:20200401T211452Z
UID:31742-1585918800-1585922400@www.cirrusconsultinggroup.com
SUMMARY:Webinar: COVID-19 & Rent Payments: How to Survive and Thrive
DESCRIPTION:
URL:https://www.cirrusconsultinggroup.com/event/henry-schein-canada-covid-19-rent-payments-april-3-2020/
CATEGORIES:Dental CE Events
ATTACH;FMTTYPE=image/jpeg:https://www.cirrusconsultinggroup.com/wp-content/uploads/2019/05/shutterstock_357385298.jpg
END:VEVENT
BEGIN:VEVENT
DTSTART;TZID=America/Toronto:20200407T150000
DTEND;TZID=America/Toronto:20200407T160000
DTSTAMP:20260424T051631
CREATED:20200401T002801Z
LAST-MODIFIED:20200406T215830Z
UID:31639-1586271600-1586275200@www.cirrusconsultinggroup.com
SUMMARY:Webinar: COVID-19 & Rent Payments: How to Survive and Thrive
DESCRIPTION:
URL:https://www.cirrusconsultinggroup.com/event/covid-19-rent-payments-april-7-2020/
CATEGORIES:Dental CE Events
ATTACH;FMTTYPE=image/jpeg:https://www.cirrusconsultinggroup.com/wp-content/uploads/2019/05/shutterstock_357385298.jpg
END:VEVENT
BEGIN:VEVENT
DTSTART;TZID=America/Toronto:20200407T150000
DTEND;TZID=America/Toronto:20200407T160000
DTSTAMP:20260424T051631
CREATED:20200401T014804Z
LAST-MODIFIED:20200406T142117Z
UID:31693-1586271600-1586275200@www.cirrusconsultinggroup.com
SUMMARY:Webinar: COVID-19 & Rent Payments: How to Survive and Thrive
DESCRIPTION:
URL:https://www.cirrusconsultinggroup.com/event/henry-schein-covid-19-rent-payments-april-7-2020/
CATEGORIES:Dental CE Events
ATTACH;FMTTYPE=image/jpeg:https://www.cirrusconsultinggroup.com/wp-content/uploads/2019/03/Dental-tools-in-pocket.jpeg
END:VEVENT
BEGIN:VEVENT
DTSTART;TZID=America/Toronto:20200414T120000
DTEND;TZID=America/Toronto:20200414T130000
DTSTAMP:20260424T051631
CREATED:20200406T214625Z
LAST-MODIFIED:20200406T214625Z
UID:32246-1586865600-1586869200@www.cirrusconsultinggroup.com
SUMMARY:Veterinary Webinar: COVID-19 & Rent Payments: How to Survive and Thrive
DESCRIPTION:You registered for a complimentary CE webinar for veterinarians: \nCOVID-19 & Rent Payments: How to Survive and Thrive \nApril 14\, 2020 | 12:00 pm – 1:00 pm (ET) | 1 CE credit available!
URL:https://www.cirrusconsultinggroup.com/event/vet-covid-19-rent-payments-april-14-2020/
CATEGORIES:Veterinary CE Events
ATTACH;FMTTYPE=image/jpeg:https://www.cirrusconsultinggroup.com/wp-content/uploads/2016/02/bigstock-139397831.jpg
END:VEVENT
BEGIN:VEVENT
DTSTART;TZID=America/Toronto:20200414T150000
DTEND;TZID=America/Toronto:20200414T160000
DTSTAMP:20260424T051631
CREATED:20200406T203032Z
LAST-MODIFIED:20200406T203032Z
UID:32223-1586876400-1586880000@www.cirrusconsultinggroup.com
SUMMARY:Webinar: COVID-19 & Rent Payments: How to Survive and Thrive
DESCRIPTION:
URL:https://www.cirrusconsultinggroup.com/event/covid-19-rent-payments-april-14-2020-2/
CATEGORIES:Dental CE Events
ATTACH;FMTTYPE=image/jpeg:https://www.cirrusconsultinggroup.com/wp-content/uploads/2019/05/shutterstock_357385298.jpg
END:VEVENT
BEGIN:VEVENT
DTSTART;TZID=America/Toronto:20200420T120000
DTEND;TZID=America/Toronto:20200420T130000
DTSTAMP:20260424T051631
CREATED:20200406T210326Z
LAST-MODIFIED:20200406T210927Z
UID:32236-1587384000-1587387600@www.cirrusconsultinggroup.com
SUMMARY:Webinar: COVID-19 & Rent Payments: How to Survive and Thrive
DESCRIPTION:
URL:https://www.cirrusconsultinggroup.com/event/covid-19-rent-payments-april-20-2020/
CATEGORIES:Dental CE Events
ATTACH;FMTTYPE=image/jpeg:https://www.cirrusconsultinggroup.com/wp-content/uploads/2019/05/shutterstock_357385298.jpg
END:VEVENT
BEGIN:VEVENT
DTSTART;TZID=America/Toronto:20200422T183000
DTEND;TZID=America/Toronto:20200422T210000
DTSTAMP:20260424T051631
CREATED:20200214T200726Z
LAST-MODIFIED:20200415T112319Z
UID:30377-1587580200-1587589200@www.cirrusconsultinggroup.com
SUMMARY:Springfield\, MA | Negotiating or Renegotiating the Terms and Rental Rates in Your Dental Office Lease
DESCRIPTION:You registered for a complimentary CE seminar for dentists: \nHow to Negotiate or Renegotiate the Terms and Rent in Your Dental Office Lease\nSpringfield\, MA | 6:30 pm – 9:00 pm | 2 CE credits available \nCirrus Consulting Group | 1-800-459-3413 | info@cirrusconsultinggroup.com
URL:https://www.cirrusconsultinggroup.com/event/springfield-ma-negotiating-or-renegotiating-the-terms-and-rent-in-your-dental-office-lease-april-2020/
LOCATION:Hilton Garden Inn Springfield\, 800 Hall of Fame Avenue\, Springfield\, MA\, 01105\, United States
CATEGORIES:Dental CE Events
ATTACH;FMTTYPE=image/jpeg:https://www.cirrusconsultinggroup.com/wp-content/uploads/2018/01/shutterstock_358326923.jpg
END:VEVENT
BEGIN:VEVENT
DTSTART;TZID=America/Toronto:20200422T183000
DTEND;TZID=America/Toronto:20200422T210000
DTSTAMP:20260424T051631
CREATED:20200227T141010Z
LAST-MODIFIED:20200415T111729Z
UID:30460-1587580200-1587589200@www.cirrusconsultinggroup.com
SUMMARY:Vancouver\, BC | Negotiating or Renegotiating the Terms and Rental Rates in Your Dental Office Lease
DESCRIPTION:You registered for a complimentary CE seminar for dentists: \nHow to Negotiate or Renegotiate the Terms and Rent in Your Dental Office Lease\nVancouver\, BC | 6:30 pm – 9:00 pm | 2 CE credits available \nCirrus Consulting Group | 1-800-459-3413 | info@cirrusconsultinggroup.com
URL:https://www.cirrusconsultinggroup.com/event/vancouver-bc-negotiating-or-renegotiating-the-terms-and-rent-in-your-dental-office-lease-april-2020/
LOCATION:Delta Hotels Vancouver Downtown Suites\, 550 W. Hastings St.\, Vancouver\, BC\, V6B 1L6\, Canada
CATEGORIES:Dental CE Events
ATTACH;FMTTYPE=image/jpeg:https://www.cirrusconsultinggroup.com/wp-content/uploads/2018/01/shutterstock_358326923.jpg
END:VEVENT
BEGIN:VEVENT
DTSTART;TZID=America/Toronto:20200423T183000
DTEND;TZID=America/Toronto:20200423T210000
DTSTAMP:20260424T051631
CREATED:20200226T175753Z
LAST-MODIFIED:20200415T112132Z
UID:30455-1587666600-1587675600@www.cirrusconsultinggroup.com
SUMMARY:Bellevue\, WA | Negotiating or Renegotiating the Terms and Rental Rates in Your Dental Office Lease
DESCRIPTION:You registered for a complimentary CE seminar for dentists: \nHow to Negotiate or Renegotiate the Terms and Rent in Your Dental Office Lease\nBellevue\, WA | 6:30 pm – 9:00 pm | 2 CE credits available \nCirrus Consulting Group | 1-800-459-3413 | info@cirrusconsultinggroup.com
URL:https://www.cirrusconsultinggroup.com/event/bellevue-wa-negotiating-or-renegotiating-the-terms-and-rent-in-your-dental-office-lease-april-2020/
LOCATION:Hilton Bellevue\, 300 112th Ave. SE\, Bellevue\, WA\, 98004\, United States
CATEGORIES:Dental CE Events
ATTACH;FMTTYPE=image/jpeg:https://www.cirrusconsultinggroup.com/wp-content/uploads/2018/01/shutterstock_358326923.jpg
END:VEVENT
BEGIN:VEVENT
DTSTART;TZID=America/Toronto:20200428T150000
DTEND;TZID=America/Toronto:20200428T160000
DTSTAMP:20260424T051631
CREATED:20200406T212357Z
LAST-MODIFIED:20200406T212808Z
UID:32240-1588086000-1588089600@www.cirrusconsultinggroup.com
SUMMARY:Webinar: COVID-19 & Rent Payments: How to Survive and Thrive
DESCRIPTION:
URL:https://www.cirrusconsultinggroup.com/event/covid-19-rent-payments-april-28-2020/
CATEGORIES:Dental CE Events
ATTACH;FMTTYPE=image/jpeg:https://www.cirrusconsultinggroup.com/wp-content/uploads/2019/05/shutterstock_357385298.jpg
END:VEVENT
END:VCALENDAR